BEGIN:VCALENDAR
VERSION:2.0
PRODID:-//Revista Campo &amp; Negócios - ECPv6.15.9//NONSGML v1.0//EN
CALSCALE:GREGORIAN
METHOD:PUBLISH
X-WR-CALNAME:Revista Campo &amp; Negócios
X-ORIGINAL-URL:https://campoenegocios.com
X-WR-CALDESC:Eventos para Revista Campo &amp; Negócios
REFRESH-INTERVAL;VALUE=DURATION:PT1H
X-Robots-Tag:noindex
X-PUBLISHED-TTL:PT1H
BEGIN:VTIMEZONE
TZID:America/Sao_Paulo
BEGIN:STANDARD
TZOFFSETFROM:-0300
TZOFFSETTO:-0300
TZNAME:-03
DTSTART:20250101T000000
END:STANDARD
END:VTIMEZONE
BEGIN:VEVENT
DTSTART;VALUE=DATE:20260617
DTEND;VALUE=DATE:20260620
DTSTAMP:20260422T181617
CREATED:20260422T181547Z
LAST-MODIFIED:20260422T181547Z
UID:160838-1781654400-1781913599@campoenegocios.com
SUMMARY:Hortitec
DESCRIPTION:A 31ª Hortitec ocorrerá de 17 a 19 de junho de 2026\, no Parque da Expoflora\, em Holambra/SP\, reafirmando-se como principal feira de horticultura e fruticultura da América Latina. O evento reunirá mais de 500 empresas focadas em tecnologias para alta produtividade\, sustentabilidade\, IA e agricultura de precisão\, com expectativa de grande volume de negócios.  \n\n\nDestaques e Informações Importantes:\n\n\n\nData: 17 a 19 de junho de 2026.\nLocal: Parque da Expoflora\, Holambra/SP.\nFoco: Agricultura de precisão\, inteligência artificial (IA)\, estufas/cultivo protegido\, nutrição vegetal\, bioinsumos e novas tecnologias para o agronegócio.\n\n\n\n\n\nPúblico: Profissionais do setor de hortifruticultura em busca de atualização\, novas tendências e networking.\nImpacto: O evento atrai dezenas de milhares de visitantes e gera movimentação significativa de negócios no setor\n\n\n\nA feira é considerada um ecossistema completo para a cadeia hortifrutícola\, essencial para produtores que buscam aumentar a competitividade no mercado
URL:https://campoenegocios.com/evento/hortitec/
LOCATION:Holambra
CATEGORIES:Feiras
ATTACH;FMTTYPE=image/png:https://campoenegocios.com/wp-content/uploads/2026/04/imagem_2026-04-22_151523057.png
END:VEVENT
END:VCALENDAR