BEGIN:VCALENDAR
VERSION:2.0
PRODID:-//Revista Campo &amp; Negócios - ECPv6.15.9//NONSGML v1.0//EN
CALSCALE:GREGORIAN
METHOD:PUBLISH
X-WR-CALNAME:Revista Campo &amp; Negócios
X-ORIGINAL-URL:https://campoenegocios.com
X-WR-CALDESC:Eventos para Revista Campo &amp; Negócios
REFRESH-INTERVAL;VALUE=DURATION:PT1H
X-Robots-Tag:noindex
X-PUBLISHED-TTL:PT1H
BEGIN:VTIMEZONE
TZID:America/Sao_Paulo
BEGIN:STANDARD
TZOFFSETFROM:-0300
TZOFFSETTO:-0300
TZNAME:-03
DTSTART:20250101T000000
END:STANDARD
END:VTIMEZONE
BEGIN:VEVENT
DTSTART;VALUE=DATE:20260526
DTEND;VALUE=DATE:20260530
DTSTAMP:20260422T182925
CREATED:20260422T181444Z
LAST-MODIFIED:20260422T181444Z
UID:160833-1779753600-1780099199@campoenegocios.com
SUMMARY:Expocitros
DESCRIPTION:tenção na programação! \nNa Expocitros 2026\, o evento começa mais cedo para aproveitar cada momento de troca\, conteúdo e conexão. \n📅 De 26 a 29 de maio \n⏰ Abertura dos portões às 8h \n🎤 Abertura oficial às 9h00 \n⏳ Encerramento na sexta-feira (29/05) às 14h \nSe você costuma chegar no horário do almoço\, vale ajustar a agenda. Assim\, dá tempo de acompanhar palestras\, visitar expositores e viver a Expocitros desde o início. Nos vemos lá! 🍊
URL:https://campoenegocios.com/evento/expocitros/
LOCATION:Cordeirópolis
CATEGORIES:Feiras
ATTACH;FMTTYPE=image/png:https://campoenegocios.com/wp-content/uploads/2026/04/imagem_2026-04-22_151417623.png
END:VEVENT
END:VCALENDAR