BEGIN:VCALENDAR
VERSION:2.0
PRODID:-//Revista Campo &amp; Negócios - ECPv6.15.9//NONSGML v1.0//EN
CALSCALE:GREGORIAN
METHOD:PUBLISH
X-WR-CALNAME:Revista Campo &amp; Negócios
X-ORIGINAL-URL:https://campoenegocios.com
X-WR-CALDESC:Eventos para Revista Campo &amp; Negócios
REFRESH-INTERVAL;VALUE=DURATION:PT1H
X-Robots-Tag:noindex
X-PUBLISHED-TTL:PT1H
BEGIN:VTIMEZONE
TZID:America/Sao_Paulo
BEGIN:STANDARD
TZOFFSETFROM:-0300
TZOFFSETTO:-0300
TZNAME:-03
DTSTART:20240101T000000
END:STANDARD
END:VTIMEZONE
BEGIN:VEVENT
DTSTART;VALUE=DATE:20250721
DTEND;VALUE=DATE:20250725
DTSTAMP:20260423T204143
CREATED:20250530T030123Z
LAST-MODIFIED:20250522T140207Z
UID:153353-1753056000-1753401599@campoenegocios.com
SUMMARY:Congresso Brasileiro de Soja 2025
DESCRIPTION:O X Congresso Brasileiro de Soja será promovido de 21 a 24 de julho em 2025\, em Campinas (SP)\, em uma edição comemorativa dos 50 anos da Embrapa Soja\, para aproximadamente 2 mil congressistas\, entre pesquisadores\, profissionais do agronegócio\, produtores e acadêmicos. A Comissão Organizadora do CBSoja está buscando sugestões de tema para o evento\, assim como conteúdos para compor a programação técnica. \n“Pretendemos debater os principais pilares da cadeia produtiva da soja\, com foco na agregação de valor e no desenvolvimento de uma agricultura sustentável\, com base tecnológica e inovação digital”\, explica o presidente do CBSoja\, Fernando Henning. “Porém\, nesta edição especial\, que estaremos celebrando os 50 anos da Embrapa Soja\, queremos contar com os agentes envolvidos com a cultura da soja na construção da programação técnica”\, afirma Henning. Desta forma\, quem enviar propostas de temáticas para o X CBSoja irá receber um voucher\, garantindo condições especiais na inscrição. As propostas podem ser enviadas AQUI: cbsoja.com.br \nO Congresso Brasileiro de Soja é o maior fórum técnico-científico da cadeia produtiva da soja na América do Sul e reúne\, a cada três anos\, especialistas nacionais e internacionais de vários segmentos ligados ao complexo soja.
URL:https://campoenegocios.com/evento/congresso-brasileiro-de-soja-2025/
LOCATION:Campinas – SP\, Campinas\, São Paulo\, Brazil
CATEGORIES:Feiras
ATTACH;FMTTYPE=image/png:https://campoenegocios.com/wp-content/uploads/2025/05/imagem_2025-05-22_110140428.png
END:VEVENT
END:VCALENDAR